Workbook

Sheet Y1
A1: * | B1: AERMOD | C1: ( | D1: 19191): | E1: MIDAS | F1: GOLD | G1: STIBNITE | H1: - | I1: MODELING | J1: R27 | K1: 44461
A2: * | B2: AERMET | C2: ( | D2: 19191): | E2: 0.66947917
A3: * | B3: MODELING | C3: OPTIONS | D3: USED: | E3: RegDFAULT | F3: CONC | G3: ELEV | H3: NOWARN | I3: DRYDPLT | J3: WETDPLT | K3: RURAL | L3: ADJ_U*
A4: * | B4: PLOT | C4: FILE | D4: OF | E4: ANNUAL | F4: VALUES | G4: AVERAGED | H4: ACROSS | I4: 1 | J4: YEARS | K4: FOR | L4: SOURCE | M4: GROUP: | N4: ALL
A5: * | B5: FOR | C5: A | D5: TOTAL | E5: OF | F5: 720 | G5: RECEPTORS.
A6: * | B6: FORMAT: | C6: (3(1X,F13.5),3(1X,F8.2),2X,A6,2X,A8,2X,I8.8,2X,A8)
A7: * | B7: X | C7: Y | D7: AVERAGE | E7: CONC | F7: ZELEV | G7: ZHILL | H7: ZFLAG | I7: AVE | J7: GRP | K7: NUM | L7: YRS | M7: NET | N7: ID
A8: * | B8: ____________ | C8: ____________ | D8: ____________ | E8: ______ | F8: ______ | G8: ______ | H8: ______ | I8: ________ | J8: ________ | K8: ________
A9: =MAX(D9:D728) -> 0.0013 | B9: 635399.52 | C9: 4975933.8 | D9: 0.00011 | E9: 2213.4 | F9: 2844.3 | G9: 0 | H9: ANNUAL | I9: ALL | J9: 1
A10: max ↑ | B10: 635424.52 | C10: 4975933.8 | D10: 0.00011 | E10: 2212.64 | F10: 2844.3 | G10: 0 | H10: ANNUAL | I10: ALL | J10: 1
B11: 635449.52 | C11: 4975933.8 | D11: 0.00011 | E11: 2211.27 | F11: 2844.3 | G11: 0 | H11: ANNUAL | I11: ALL | J11: 1
B12: 635474.52 | C12: 4975933.8 | D12: 0.00011 | E12: 2212.5 | F12: 2844.3 | G12: 0 | H12: ANNUAL | I12: ALL | J12: 1
B13: 635499.52 | C13: 4975933.8 | D13: 0.0001 | E13: 2215.21 | F13: 2844.3 | G13: 0 | H13: ANNUAL | I13: ALL | J13: 1
B14: 635524.52 | C14: 4975933.8 | D14: 0.0001 | E14: 2215.98 | F14: 2844.3 | G14: 0 | H14: ANNUAL | I14: ALL | J14: 1
B15: 635549.52 | C15: 4975933.8 | D15: 0.0001 | E15: 2215 | F15: 2844.3 | G15: 0 | H15: ANNUAL | I15: ALL | J15: 1
B16: 635574.52 | C16: 4975933.8 | D16: 0.0001 | E16: 2215.74 | F16: 2844.3 | G16: 0 | H16: ANNUAL | I16: ALL | J16: 1
B17: 635599.52 | C17: 4975933.8 | D17: 0.0001 | E17: 2218.34 | F17: 2844.3 | G17: 0 | H17: ANNUAL | I17: ALL | J17: 1
B18: 635399.52 | C18: 4975958.8 | D18: 0.00012 | E18: 2202.75 | F18: 2844.3 | G18: 0 | H18: ANNUAL | I18: ALL | J18: 1
B19: 635424.52 | C19: 4975958.8 | D19: 0.00012 | E19: 2204.36 | F19: 2844.3 | G19: 0 | H19: ANNUAL | I19: ALL | J19: 1
B20: 635449.52 | C20: 4975958.8 | D20: 0.00011 | E20: 2204.87 | F20: 2844.3 | G20: 0 | H20: ANNUAL | I20: ALL | J20: 1
B21: 635474.52 | C21: 4975958.8 | D21: 0.00011 | E21: 2206.39 | F21: 2844.3 | G21: 0 | H21: ANNUAL | I21: ALL | J21: 1
B22: 635499.52 | C22: 4975958.8 | D22: 0.00011 | E22: 2208.99 | F22: 2844.3 | G22: 0 | H22: ANNUAL | I22: ALL | J22: 1
... B728: 634799.52 | C728: 4977033.8 | D728: 0.00029 | E728: 2295.21 | F728: 2742.16 | G728: 0 | H728: ANNUAL | I728: ALL | J728: 1
A729: ** | B729: CONCUNIT | C729: ug/m^3
A730: ** | B730: DEPUNIT | C730: g/m^2

Sheet Y2
A1: * | B1: AERMOD | C1: ( | D1: 19191): | E1: MIDAS | F1: GOLD | G1: STIBNITE | H1: - | I1: MODELING | J1: R27 | K1: 44461
A2: * | B2: AERMET | C2: ( | D2: 19191): | E2: 0.70518519
A3: * | B3: MODELING | C3: OPTIONS | D3: USED: | E3: RegDFAULT | F3: CONC | G3: ELEV | H3: NOWARN | I3: DRYDPLT | J3: WETDPLT | K3: RURAL | L3: ADJ_U*
A4: * | B4: PLOT | C4: FILE | D4: OF | E4: ANNUAL | F4: VALUES | G4: AVERAGED | H4: ACROSS | I4: 1 | J4: YEARS | K4: FOR | L4: SOURCE | M4: GROUP: | N4: ALL
A5: * | B5: FOR | C5: A | D5: TOTAL | E5: OF | F5: 720 | G5: RECEPTORS.
A6: * | B6: FORMAT: | C6: (3(1X,F13.5),3(1X,F8.2),2X,A6,2X,A8,2X,I8.8,2X,A8)
A7: * | B7: X | C7: Y | D7: AVERAGE | E7: CONC | F7: ZELEV | G7: ZHILL | H7: ZFLAG | I7: AVE | J7: GRP | K7: NUM | L7: YRS | M7: NET | N7: ID
A8: * | B8: ____________ | C8: ____________ | D8: ____________ | E8: ______ | F8: ______ | G8: ______ | H8: ______ | I8: ________ | J8: ________ | K8: ________
A9: =MAX(D9:D728) -> 0.00214 | B9: 635399.52 | C9: 4975933.8 | D9: 0.00015 | E9: 2213.4 | F9: 2844.3 | G9: 0 | H9: ANNUAL | I9: ALL | J9: 1
A10: max ↑ | B10: 635424.52 | C10: 4975933.8 | D10: 0.00015 | E10: 2212.64 | F10: 2844.3 | G10: 0 | H10: ANNUAL | I10: ALL | J10: 1
B11: 635449.52 | C11: 4975933.8 | D11: 0.00015 | E11: 2211.27 | F11: 2844.3 | G11: 0 | H11: ANNUAL | I11: ALL | J11: 1
B12: 635474.52 | C12: 4975933.8 | D12: 0.00015 | E12: 2212.5 | F12: 2844.3 | G12: 0 | H12: ANNUAL | I12: ALL | J12: 1
B13: 635499.52 | C13: 4975933.8 | D13: 0.00014 | E13: 2215.21 | F13: 2844.3 | G13: 0 | H13: ANNUAL | I13: ALL | J13: 1
B14: 635524.52 | C14: 4975933.8 | D14: 0.00014 | E14: 2215.98 | F14: 2844.3 | G14: 0 | H14: ANNUAL | I14: ALL | J14: 1
B15: 635549.52 | C15: 4975933.8 | D15: 0.00014 | E15: 2215 | F15: 2844.3 | G15: 0 | H15: ANNUAL | I15: ALL | J15: 1
B16: 635574.52 | C16: 4975933.8 | D16: 0.00014 | E16: 2215.74 | F16: 2844.3 | G16: 0 | H16: ANNUAL | I16: ALL | J16: 1
B17: 635599.52 | C17: 4975933.8 | D17: 0.00013 | E17: 2218.34 | F17: 2844.3 | G17: 0 | H17: ANNUAL | I17: ALL | J17: 1
B18: 635399.52 | C18: 4975958.8 | D18: 0.00017 | E18: 2202.75 | F18: 2844.3 | G18: 0 | H18: ANNUAL | I18: ALL | J18: 1
B19: 635424.52 | C19: 4975958.8 | D19: 0.00017 | E19: 2204.36 | F19: 2844.3 | G19: 0 | H19: ANNUAL | I19: ALL | J19: 1
B20: 635449.52 | C20: 4975958.8 | D20: 0.00016 | E20: 2204.87 | F20: 2844.3 | G20: 0 | H20: ANNUAL | I20: ALL | J20: 1
B21: 635474.52 | C21: 4975958.8 | D21: 0.00016 | E21: 2206.39 | F21: 2844.3 | G21: 0 | H21: ANNUAL | I21: ALL | J21: 1
B22: 635499.52 | C22: 4975958.8 | D22: 0.00015 | E22: 2208.99 | F22: 2844.3 | G22: 0 | H22: ANNUAL | I22: ALL | J22: 1
... B728: 634799.52 | C728: 4977033.8 | D728: 0.00055 | E728: 2295.21 | F728: 2742.16 | G728: 0 | H728: ANNUAL | I728: ALL | J728: 1
A729: ** | B729: CONCUNIT | C729: ug/m^3
A730: ** | B730: DEPUNIT | C730: g/m^2

Sheet Y3
A1: * | B1: AERMOD | C1: ( | D1: 19191): | E1: MIDAS | F1: GOLD | G1: STIBNITE | H1: - | I1: MODELING | J1: R27 | K1: 44461
A2: * | B2: AERMET | C2: ( | D2: 19191): | E2: 0.65542824
A3: * | B3: MODELING | C3: OPTIONS | D3: USED: | E3: RegDFAULT | F3: CONC | G3: ELEV | H3: NOWARN | I3: DRYDPLT | J3: WETDPLT | K3: RURAL | L3: ADJ_U*
A4: * | B4: PLOT | C4: FILE | D4: OF | E4: ANNUAL | F4: VALUES | G4: AVERAGED | H4: ACROSS | I4: 1 | J4: YEARS | K4: FOR | L4: SOURCE | M4: GROUP: | N4: ALL
A5: * | B5: FOR | C5: A | D5: TOTAL | E5: OF | F5: 720 | G5: RECEPTORS.
A6: * | B6: FORMAT: | C6: (3(1X,F13.5),3(1X,F8.2),2X,A6,2X,A8,2X,I8.8,2X,A8)
A7: * | B7: X | C7: Y | D7: AVERAGE | E7: CONC | F7: ZELEV | G7: ZHILL | H7: ZFLAG | I7: AVE | J7: GRP | K7: NUM | L7: YRS | M7: NET | N7: ID
A8: * | B8: ____________ | C8: ____________ | D8: ____________ | E8: ______ | F8: ______ | G8: ______ | H8: ______ | I8: ________ | J8: ________ | K8: ________
A9: =MAX(D9:D728) -> 0.00128 | B9: 635399.52 | C9: 4975933.8 | D9: 0.00059 | E9: 2213.4 | F9: 2844.3 | G9: 0 | H9: ANNUAL | I9: ALL | J9: 1
A10: max ↑ | B10: 635424.52 | C10: 4975933.8 | D10: 0.00059 | E10: 2212.64 | F10: 2844.3 | G10: 0 | H10: ANNUAL | I10: ALL | J10: 1
B11: 635449.52 | C11: 4975933.8 | D11: 0.0006 | E11: 2211.27 | F11: 2844.3 | G11: 0 | H11: ANNUAL | I11: ALL | J11: 1
B12: 635474.52 | C12: 4975933.8 | D12: 0.00059 | E12: 2212.5 | F12: 2844.3 | G12: 0 | H12: ANNUAL | I12: ALL | J12: 1
B13: 635499.52 | C13: 4975933.8 | D13: 0.00059 | E13: 2215.21 | F13: 2844.3 | G13: 0 | H13: ANNUAL | I13: ALL | J13: 1
B14: 635524.52 | C14: 4975933.8 | D14: 0.00058 | E14: 2215.98 | F14: 2844.3 | G14: 0 | H14: ANNUAL | I14: ALL | J14: 1
B15: 635549.52 | C15: 4975933.8 | D15: 0.00059 | E15: 2215 | F15: 2844.3 | G15: 0 | H15: ANNUAL | I15: ALL | J15: 1
B16: 635574.52 | C16: 4975933.8 | D16: 0.00059 | E16: 2215.74 | F16: 2844.3 | G16: 0 | H16: ANNUAL | I16: ALL | J16: 1
B17: 635599.52 | C17: 4975933.8 | D17: 0.00058 | E17: 2218.34 | F17: 2844.3 | G17: 0 | H17: ANNUAL | I17: ALL | J17: 1
B18: 635399.52 | C18: 4975958.8 | D18: 0.00062 | E18: 2202.75 | F18: 2844.3 | G18: 0 | H18: ANNUAL | I18: ALL | J18: 1
B19: 635424.52 | C19: 4975958.8 | D19: 0.00061 | E19: 2204.36 | F19: 2844.3 | G19: 0 | H19: ANNUAL | I19: ALL | J19: 1
B20: 635449.52 | C20: 4975958.8 | D20: 0.00061 | E20: 2204.87 | F20: 2844.3 | G20: 0 | H20: ANNUAL | I20: ALL | J20: 1
B21: 635474.52 | C21: 4975958.8 | D21: 0.00061 | E21: 2206.39 | F21: 2844.3 | G21: 0 | H21: ANNUAL | I21: ALL | J21: 1
B22: 635499.52 | C22: 4975958.8 | D22: 0.0006 | E22: 2208.99 | F22: 2844.3 | G22: 0 | H22: ANNUAL | I22: ALL | J22: 1
... B728: 634799.52 | C728: 4977033.8 | D728: 0.00038 | E728: 2295.21 | F728: 2742.16 | G728: 0 | H728: ANNUAL | I728: ALL | J728: 1
A729: ** | B729: CONCUNIT | C729: ug/m^3
A730: ** | B730: DEPUNIT | C730: g/m^2

Sheet H1
A1: * | B1: AERMOD | C1: ( | D1: 19191): | E1: MIDAS | F1: GOLD | G1: STIBNITE | H1: - | I1: MODELING | J1: R27 | K1: 44461
A2: * | B2: AERMET | C2: ( | D2: 19191): | E2: 0.54576389
A3: * | B3: MODELING | C3: OPTIONS | D3: USED: | E3: RegDFAULT | F3: CONC | G3: ELEV | H3: NOWARN | I3: DRYDPLT | J3: WETDPLT | K3: RURAL | L3: ADJ_U*
A4: * | B4: PLOT | C4: FILE | D4: OF | E4: ANNUAL | F4: VALUES | G4: AVERAGED | H4: ACROSS | I4: 1 | J4: YEARS | K4: FOR | L4: SOURCE | M4: GROUP: | N4: ALL
A5: * | B5: FOR | C5: A | D5: TOTAL | E5: OF | F5: 720 | G5: RECEPTORS.
A6: * | B6: FORMAT: | C6: (3(1X,F13.5),3(1X,F8.2),2X,A6,2X,A8,2X,I8.8,2X,A8)
A7: * | B7: X | C7: Y | D7: AVERAGE | E7: CONC | F7: ZELEV | G7: ZHILL | H7: ZFLAG | I7: AVE | J7: GRP | K7: NUM | L7: YRS | M7: NET | N7: ID
A8: * | B8: ____________ | C8: ____________ | D8: ____________ | E8: ______ | F8: ______ | G8: ______ | H8: ______ | I8: ________ | J8: ________ | K8: ________
A9: =MAX(D9:D728) -> 0.00102 | B9: 635399.52 | C9: 4975933.8 | D9: 0.00066 | E9: 2213.4 | F9: 2844.3 | G9: 0 | H9: ANNUAL | I9: ALL | J9: 1
A10: max ↑ | B10: 635424.52 | C10: 4975933.8 | D10: 0.00066 | E10: 2212.64 | F10: 2844.3 | G10: 0 | H10: ANNUAL | I10: ALL | J10: 1
B11: 635449.52 | C11: 4975933.8 | D11: 0.00066 | E11: 2211.27 | F11: 2844.3 | G11: 0 | H11: ANNUAL | I11: ALL | J11: 1
B12: 635474.52 | C12: 4975933.8 | D12: 0.00066 | E12: 2212.5 | F12: 2844.3 | G12: 0 | H12: ANNUAL | I12: ALL | J12: 1
B13: 635499.52 | C13: 4975933.8 | D13: 0.00065 | E13: 2215.21 | F13: 2844.3 | G13: 0 | H13: ANNUAL | I13: ALL | J13: 1
B14: 635524.52 | C14: 4975933.8 | D14: 0.00064 | E14: 2215.98 | F14: 2844.3 | G14: 0 | H14: ANNUAL | I14: ALL | J14: 1
B15: 635549.52 | C15: 4975933.8 | D15: 0.00064 | E15: 2215 | F15: 2844.3 | G15: 0 | H15: ANNUAL | I15: ALL | J15: 1
B16: 635574.52 | C16: 4975933.8 | D16: 0.00064 | E16: 2215.74 | F16: 2844.3 | G16: 0 | H16: ANNUAL | I16: ALL | J16: 1
B17: 635599.52 | C17: 4975933.8 | D17: 0.00063 | E17: 2218.34 | F17: 2844.3 | G17: 0 | H17: ANNUAL | I17: ALL | J17: 1
B18: 635399.52 | C18: 4975958.8 | D18: 0.00069 | E18: 2202.75 | F18: 2844.3 | G18: 0 | H18: ANNUAL | I18: ALL | J18: 1
B19: 635424.52 | C19: 4975958.8 | D19: 0.00068 | E19: 2204.36 | F19: 2844.3 | G19: 0 | H19: ANNUAL | I19: ALL | J19: 1
B20: 635449.52 | C20: 4975958.8 | D20: 0.00068 | E20: 2204.87 | F20: 2844.3 | G20: 0 | H20: ANNUAL | I20: ALL | J20: 1
B21: 635474.52 | C21: 4975958.8 | D21: 0.00067 | E21: 2206.39 | F21: 2844.3 | G21: 0 | H21: ANNUAL | I21: ALL | J21: 1
B22: 635499.52 | C22: 4975958.8 | D22: 0.00066 | E22: 2208.99 | F22: 2844.3 | G22: 0 | H22: ANNUAL | I22: ALL | J22: 1
... B728: 634799.52 | C728: 4977033.8 | D728: 0.00036 | E728: 2295.21 | F728: 2742.16 | G728: 0 | H728: ANNUAL | I728: ALL | J728: 1
A729: ** | B729: CONCUNIT | C729: ug/m^3
A730: ** | B730: DEPUNIT | C730: g/m^2

Sheet H2
A1: * | B1: AERMOD | C1: ( | D1: 19191): | E1: MIDAS | F1: GOLD | G1: STIBNITE | H1: - | I1: MODELING | J1: R27 | K1: 44461
A2: * | B2: AERMET | C2: ( | D2: 19191): | E2: 0.57916667
A3: * | B3: MODELING | C3: OPTIONS | D3: USED: | E3: RegDFAULT | F3: CONC | G3: ELEV | H3: NOWARN | I3: DRYDPLT | J3: WETDPLT | K3: RURAL | L3: ADJ_U*
A4: * | B4: PLOT | C4: FILE | D4: OF | E4: ANNUAL | F4: VALUES | G4: AVERAGED | H4: ACROSS | I4: 1 | J4: YEARS | K4: FOR | L4: SOURCE | M4: GROUP: | N4: ALL
A5: * | B5: FOR | C5: A | D5: TOTAL | E5: OF | F5: 720 | G5: RECEPTORS.
A6: * | B6: FORMAT: | C6: (3(1X,F13.5),3(1X,F8.2),2X,A6,2X,A8,2X,I8.8,2X,A8)
A7: * | B7: X | C7: Y | D7: AVERAGE | E7: CONC | F7: ZELEV | G7: ZHILL | H7: ZFLAG | I7: AVE | J7: GRP | K7: NUM | L7: YRS | M7: NET | N7: ID
A8: * | B8: ____________ | C8: ____________ | D8: ____________ | E8: ______ | F8: ______ | G8: ______ | H8: ______ | I8: ________ | J8: ________ | K8: ________
A9: =MAX(D9:D728) -> 0.00234 | B9: 635399.52 | C9: 4975933.8 | D9: 0.00071 | E9: 2213.4 | F9: 2844.3 | G9: 0 | H9: ANNUAL | I9: ALL | J9: 1
A10: max ↑ | B10: 635424.52 | C10: 4975933.8 | D10: 0.00071 | E10: 2212.64 | F10: 2844.3 | G10: 0 | H10: ANNUAL | I10: ALL | J10: 1
B11: 635449.52 | C11: 4975933.8 | D11: 0.00071 | E11: 2211.27 | F11: 2844.3 | G11: 0 | H11: ANNUAL | I11: ALL | J11: 1
B12: 635474.52 | C12: 4975933.8 | D12: 0.00071 | E12: 2212.5 | F12: 2844.3 | G12: 0 | H12: ANNUAL | I12: ALL | J12: 1
B13: 635499.52 | C13: 4975933.8 | D13: 0.00069 | E13: 2215.21 | F13: 2844.3 | G13: 0 | H13: ANNUAL | I13: ALL | J13: 1
B14: 635524.52 | C14: 4975933.8 | D14: 0.00069 | E14: 2215.98 | F14: 2844.3 | G14: 0 | H14: ANNUAL | I14: ALL | J14: 1
B15: 635549.52 | C15: 4975933.8 | D15: 0.00069 | E15: 2215 | F15: 2844.3 | G15: 0 | H15: ANNUAL | I15: ALL | J15: 1
B16: 635574.52 | C16: 4975933.8 | D16: 0.00069 | E16: 2215.74 | F16: 2844.3 | G16: 0 | H16: ANNUAL | I16: ALL | J16: 1
B17: 635599.52 | C17: 4975933.8 | D17: 0.00068 | E17: 2218.34 | F17: 2844.3 | G17: 0 | H17: ANNUAL | I17: ALL | J17: 1
B18: 635399.52 | C18: 4975958.8 | D18: 0.00075 | E18: 2202.75 | F18: 2844.3 | G18: 0 | H18: ANNUAL | I18: ALL | J18: 1
B19: 635424.52 | C19: 4975958.8 | D19: 0.00074 | E19: 2204.36 | F19: 2844.3 | G19: 0 | H19: ANNUAL | I19: ALL | J19: 1
B20: 635449.52 | C20: 4975958.8 | D20: 0.00074 | E20: 2204.87 | F20: 2844.3 | G20: 0 | H20: ANNUAL | I20: ALL | J20: 1
B21: 635474.52 | C21: 4975958.8 | D21: 0.00073 | E21: 2206.39 | F21: 2844.3 | G21: 0 | H21: ANNUAL | I21: ALL | J21: 1
B22: 635499.52 | C22: 4975958.8 | D22: 0.00072 | E22: 2208.99 | F22: 2844.3 | G22: 0 | H22: ANNUAL | I22: ALL | J22: 1
... B728: 634799.52 | C728: 4977033.8 | D728: 0.00075 | E728: 2295.21 | F728: 2742.16 | G728: 0 | H728: ANNUAL | I728: ALL | J728: 1
A729: ** | B729: CONCUNIT | C729: ug/m^3
A730: ** | B730: DEPUNIT | C730: g/m^2

Sheet H3
A1: * | B1: AERMOD | C1: ( | D1: 19191): | E1: MIDAS | F1: GOLD | G1: STIBNITE | H1: - | I1: MODELING | J1: R27 | K1: 44461
A2: * | B2: AERMET | C2: ( | D2: 19191): | E2: 0.62103009
A3: * | B3: MODELING | C3: OPTIONS | D3: USED: | E3: RegDFAULT | F3: CONC | G3: ELEV | H3: NOWARN | I3: DRYDPLT | J3: WETDPLT | K3: RURAL | L3: ADJ_U*
A4: * | B4: PLOT | C4: FILE | D4: OF | E4: ANNUAL | F4: VALUES | G4: AVERAGED | H4: ACROSS | I4: 1 | J4: YEARS | K4: FOR | L4: SOURCE | M4: GROUP: | N4: ALL
A5: * | B5: FOR | C5: A | D5: TOTAL | E5: OF | F5: 720 | G5: RECEPTORS.
A6: * | B6: FORMAT: | C6: (3(1X,F13.5),3(1X,F8.2),2X,A6,2X,A8,2X,I8.8,2X,A8)
A7: * | B7: X | C7: Y | D7: AVERAGE | E7: CONC | F7: ZELEV | G7: ZHILL | H7: ZFLAG | I7: AVE | J7: GRP | K7: NUM | L7: YRS | M7: NET | N7: ID
A8: * | B8: ____________ | C8: ____________ | D8: ____________ | E8: ______ | F8: ______ | G8: ______ | H8: ______ | I8: ________ | J8: ________ | K8: ________
A9: =MAX(D9:D728) -> 0.00086 | B9: 635399.52 | C9: 4975933.8 | D9: 0.0007 | E9: 2213.4 | F9: 2844.3 | G9: 0 | H9: ANNUAL | I9: ALL | J9: 1
A10: max ↑ | B10: 635424.52 | C10: 4975933.8 | D10: 0.00071 | E10: 2212.64 | F10: 2844.3 | G10: 0 | H10: ANNUAL | I10: ALL | J10: 1
B11: 635449.52 | C11: 4975933.8 | D11: 0.00072 | E11: 2211.27 | F11: 2844.3 | G11: 0 | H11: ANNUAL | I11: ALL | J11: 1
B12: 635474.52 | C12: 4975933.8 | D12: 0.00072 | E12: 2212.5 | F12: 2844.3 | G12: 0 | H12: ANNUAL | I12: ALL | J12: 1
B13: 635499.52 | C13: 4975933.8 | D13: 0.00071 | E13: 2215.21 | F13: 2844.3 | G13: 0 | H13: ANNUAL | I13: ALL | J13: 1
B14: 635524.52 | C14: 4975933.8 | D14: 0.00071 | E14: 2215.98 | F14: 2844.3 | G14: 0 | H14: ANNUAL | I14: ALL | J14: 1
B15: 635549.52 | C15: 4975933.8 | D15: 0.00072 | E15: 2215 | F15: 2844.3 | G15: 0 | H15: ANNUAL | I15: ALL | J15: 1
B16: 635574.52 | C16: 4975933.8 | D16: 0.00072 | E16: 2215.74 | F16: 2844.3 | G16: 0 | H16: ANNUAL | I16: ALL | J16: 1
B17: 635599.52 | C17: 4975933.8 | D17: 0.00071 | E17: 2218.34 | F17: 2844.3 | G17: 0 | H17: ANNUAL | I17: ALL | J17: 1
B18: 635399.52 | C18: 4975958.8 | D18: 0.00073 | E18: 2202.75 | F18: 2844.3 | G18: 0 | H18: ANNUAL | I18: ALL | J18: 1
B19: 635424.52 | C19: 4975958.8 | D19: 0.00073 | E19: 2204.36 | F19: 2844.3 | G19: 0 | H19: ANNUAL | I19: ALL | J19: 1
B20: 635449.52 | C20: 4975958.8 | D20: 0.00074 | E20: 2204.87 | F20: 2844.3 | G20: 0 | H20: ANNUAL | I20: ALL | J20: 1
B21: 635474.52 | C21: 4975958.8 | D21: 0.00073 | E21: 2206.39 | F21: 2844.3 | G21: 0 | H21: ANNUAL | I21: ALL | J21: 1
B22: 635499.52 | C22: 4975958.8 | D22: 0.00073 | E22: 2208.99 | F22: 2844.3 | G22: 0 | H22: ANNUAL | I22: ALL | J22: 1
... B728: 634799.52 | C728: 4977033.8 | D728: 0.00018 | E728: 2295.21 | F728: 2742.16 | G728: 0 | H728: ANNUAL | I728: ALL | J728: 1
A729: ** | B729: CONCUNIT | C729: ug/m^3
A730: ** | B730: DEPUNIT | C730: g/m^2

Sheet H4
A1: * | B1: AERMOD | C1: ( | D1: 19191): | E1: MIDAS | F1: GOLD | G1: STIBNITE | H1: - | I1: MODELING | J1: R27 | K1: 44461
A2: * | B2: AERMET | C2: ( | D2: 19191): | E2: 0.65430556
A3: * | B3: MODELING | C3: OPTIONS | D3: USED: | E3: RegDFAULT | F3: CONC | G3: ELEV | H3: NOWARN | I3: DRYDPLT | J3: WETDPLT | K3: RURAL | L3: ADJ_U*
A4: * | B4: PLOT | C4: FILE | D4: OF | E4: ANNUAL | F4: VALUES | G4: AVERAGED | H4: ACROSS | I4: 1 | J4: YEARS | K4: FOR | L4: SOURCE | M4: GROUP: | N4: ALL
A5: * | B5: FOR | C5: A | D5: TOTAL | E5: OF | F5: 720 | G5: RECEPTORS.
A6: * | B6: FORMAT: | C6: (3(1X,F13.5),3(1X,F8.2),2X,A6,2X,A8,2X,I8.8,2X,A8)
A7: * | B7: X | C7: Y | D7: AVERAGE | E7: CONC | F7: ZELEV | G7: ZHILL | H7: ZFLAG | I7: AVE | J7: GRP | K7: NUM | L7: YRS | M7: NET | N7: ID
A8: * | B8: ____________ | C8: ____________ | D8: ____________ | E8: ______ | F8: ______ | G8: ______ | H8: ______ | I8: ________ | J8: ________ | K8: ________
A9: =MAX(D9:D728) -> 0.0009 | B9: 635399.52 | C9: 4975933.8 | D9: 0.00061 | E9: 2213.4 | F9: 2844.3 | G9: 0 | H9: ANNUAL | I9: ALL | J9: 1
A10: max ↑ | B10: 635424.52 | C10: 4975933.8 | D10: 0.00061 | E10: 2212.64 | F10: 2844.3 | G10: 0 | H10: ANNUAL | I10: ALL | J10: 1
B11: 635449.52 | C11: 4975933.8 | D11: 0.00062 | E11: 2211.27 | F11: 2844.3 | G11: 0 | H11: ANNUAL | I11: ALL | J11: 1
B12: 635474.52 | C12: 4975933.8 | D12: 0.00062 | E12: 2212.5 | F12: 2844.3 | G12: 0 | H12: ANNUAL | I12: ALL | J12: 1
B13: 635499.52 | C13: 4975933.8 | D13: 0.00061 | E13: 2215.21 | F13: 2844.3 | G13: 0 | H13: ANNUAL | I13: ALL | J13: 1
B14: 635524.52 | C14: 4975933.8 | D14: 0.0006 | E14: 2215.98 | F14: 2844.3 | G14: 0 | H14: ANNUAL | I14: ALL | J14: 1
B15: 635549.52 | C15: 4975933.8 | D15: 0.00061 | E15: 2215 | F15: 2844.3 | G15: 0 | H15: ANNUAL | I15: ALL | J15: 1
B16: 635574.52 | C16: 4975933.8 | D16: 0.0006 | E16: 2215.74 | F16: 2844.3 | G16: 0 | H16: ANNUAL | I16: ALL | J16: 1
B17: 635599.52 | C17: 4975933.8 | D17: 0.0006 | E17: 2218.34 | F17: 2844.3 | G17: 0 | H17: ANNUAL | I17: ALL | J17: 1
B18: 635399.52 | C18: 4975958.8 | D18: 0.00064 | E18: 2202.75 | F18: 2844.3 | G18: 0 | H18: ANNUAL | I18: ALL | J18: 1
B19: 635424.52 | C19: 4975958.8 | D19: 0.00063 | E19: 2204.36 | F19: 2844.3 | G19: 0 | H19: ANNUAL | I19: ALL | J19: 1
B20: 635449.52 | C20: 4975958.8 | D20: 0.00063 | E20: 2204.87 | F20: 2844.3 | G20: 0 | H20: ANNUAL | I20: ALL | J20: 1
B21: 635474.52 | C21: 4975958.8 | D21: 0.00063 | E21: 2206.39 | F21: 2844.3 | G21: 0 | H21: ANNUAL | I21: ALL | J21: 1
B22: 635499.52 | C22: 4975958.8 | D22: 0.00062 | E22: 2208.99 | F22: 2844.3 | G22: 0 | H22: ANNUAL | I22: ALL | J22: 1
... B728: 634799.52 | C728: 4977033.8 | D728: 0.00037 | E728: 2295.21 | F728: 2742.16 | G728: 0 | H728: ANNUAL | I728: ALL | J728: 1
A729: ** | B729: CONCUNIT | C729: ug/m^3
A730: ** | B730: DEPUNIT | C730: g/m^2

Sheet W1
A1: * | B1: AERMOD | C1: ( | D1: 19191): | E1: MIDAS | F1: GOLD | G1: STIBNITE | H1: - | I1: MODELING | J1: R27 | K1: 44461
A2: * | B2: AERMET | C2: ( | D2: 19191): | E2: 0.69136574
A3: * | B3: MODELING | C3: OPTIONS | D3: USED: | E3: RegDFAULT | F3: CONC | G3: ELEV | H3: NOWARN | I3: DRYDPLT | J3: WETDPLT | K3: RURAL | L3: ADJ_U*
A4: * | B4: PLOT | C4: FILE | D4: OF | E4: ANNUAL | F4: VALUES | G4: AVERAGED | H4: ACROSS | I4: 1 | J4: YEARS | K4: FOR | L4: SOURCE | M4: GROUP: | N4: ALL
A5: * | B5: FOR | C5: A | D5: TOTAL | E5: OF | F5: 720 | G5: RECEPTORS.
A6: * | B6: FORMAT: | C6: (3(1X,F13.5),3(1X,F8.2),2X,A6,2X,A8,2X,I8.8,2X,A8)
A7: * | B7: X | C7: Y | D7: AVERAGE | E7: CONC | F7: ZELEV | G7: ZHILL | H7: ZFLAG | I7: AVE | J7: GRP | K7: NUM | L7: YRS | M7: NET | N7: ID
A8: * | B8: ____________ | C8: ____________ | D8: ____________ | E8: ______ | F8: ______ | G8: ______ | H8: ______ | I8: ________ | J8: ________ | K8: ________
A9: =MAX(D9:D728) -> 0.00683 | B9: 635399.52 | C9: 4975933.8 | D9: 0.00035 | E9: 2213.4 | F9: 2844.3 | G9: 0 | H9: ANNUAL | I9: ALL | J9: 1
A10: max ↑ | B10: 635424.52 | C10: 4975933.8 | D10: 0.00035 | E10: 2212.64 | F10: 2844.3 | G10: 0 | H10: ANNUAL | I10: ALL | J10: 1
B11: 635449.52 | C11: 4975933.8 | D11: 0.00035 | E11: 2211.27 | F11: 2844.3 | G11: 0 | H11: ANNUAL | I11: ALL | J11: 1
B12: 635474.52 | C12: 4975933.8 | D12: 0.00034 | E12: 2212.5 | F12: 2844.3 | G12: 0 | H12: ANNUAL | I12: ALL | J12: 1
B13: 635499.52 | C13: 4975933.8 | D13: 0.00033 | E13: 2215.21 | F13: 2844.3 | G13: 0 | H13: ANNUAL | I13: ALL | J13: 1
B14: 635524.52 | C14: 4975933.8 | D14: 0.00033 | E14: 2215.98 | F14: 2844.3 | G14: 0 | H14: ANNUAL | I14: ALL | J14: 1
B15: 635549.52 | C15: 4975933.8 | D15: 0.00032 | E15: 2215 | F15: 2844.3 | G15: 0 | H15: ANNUAL | I15: ALL | J15: 1
B16: 635574.52 | C16: 4975933.8 | D16: 0.00032 | E16: 2215.74 | F16: 2844.3 | G16: 0 | H16: ANNUAL | I16: ALL | J16: 1
B17: 635599.52 | C17: 4975933.8 | D17: 0.00031 | E17: 2218.34 | F17: 2844.3 | G17: 0 | H17: ANNUAL | I17: ALL | J17: 1
B18: 635399.52 | C18: 4975958.8 | D18: 0.00038 | E18: 2202.75 | F18: 2844.3 | G18: 0 | H18: ANNUAL | I18: ALL | J18: 1
B19: 635424.52 | C19: 4975958.8 | D19: 0.00037 | E19: 2204.36 | F19: 2844.3 | G19: 0 | H19: ANNUAL | I19: ALL | J19: 1
B20: 635449.52 | C20: 4975958.8 | D20: 0.00037 | E20: 2204.87 | F20: 2844.3 | G20: 0 | H20: ANNUAL | I20: ALL | J20: 1
B21: 635474.52 | C21: 4975958.8 | D21: 0.00036 | E21: 2206.39 | F21: 2844.3 | G21: 0 | H21: ANNUAL | I21: ALL | J21: 1
B22: 635499.52 | C22: 4975958.8 | D22: 0.00035 | E22: 2208.99 | F22: 2844.3 | G22: 0 | H22: ANNUAL | I22: ALL | J22: 1
... B728: 634799.52 | C728: 4977033.8 | D728: 0.0009 | E728: 2295.21 | F728: 2742.16 | G728: 0 | H728: ANNUAL | I728: ALL | J728: 1
A729: ** | B729: CONCUNIT | C729: ug/m^3
A730: ** | B730: DEPUNIT | C730: g/m^2

Sheet W2
A1: * | B1: AERMOD | C1: ( | D1: 19191): | E1: MIDAS | F1: GOLD | G1: STIBNITE | H1: - | I1: MODELING | J1: R27 | K1: 44461
A2: * | B2: AERMET | C2: ( | D2: 19191): | E2: 0.48895833
A3: * | B3: MODELING | C3: OPTIONS | D3: USED: | E3: RegDFAULT | F3: CONC | G3: ELEV | H3: NOWARN | I3: DRYDPLT | J3: WETDPLT | K3: RURAL | L3: ADJ_U*
A4: * | B4: PLOT | C4: FILE | D4: OF | E4: ANNUAL | F4: VALUES | G4: AVERAGED | H4: ACROSS | I4: 1 | J4: YEARS | K4: FOR | L4: SOURCE | M4: GROUP: | N4: ALL
A5: * | B5: FOR | C5: A | D5: TOTAL | E5: OF | F5: 720 | G5: RECEPTORS.
A6: * | B6: FORMAT: | C6: (3(1X,F13.5),3(1X,F8.2),2X,A6,2X,A8,2X,I8.8,2X,A8)
A7: * | B7: X | C7: Y | D7: AVERAGE | E7: CONC | F7: ZELEV | G7: ZHILL | H7: ZFLAG | I7: AVE | J7: GRP | K7: NUM | L7: YRS | M7: NET | N7: ID
A8: * | B8: ____________ | C8: ____________ | D8: ____________ | E8: ______ | F8: ______ | G8: ______ | H8: ______ | I8: ________ | J8: ________ | K8: ________
A9: =MAX(D9:D728) -> 0.007 | B9: 635399.52 | C9: 4975933.8 | D9: 0.00028 | E9: 2213.4 | F9: 2844.3 | G9: 0 | H9: ANNUAL | I9: ALL | J9: 1
A10: max ↑ | B10: 635424.52 | C10: 4975933.8 | D10: 0.00028 | E10: 2212.64 | F10: 2844.3 | G10: 0 | H10: ANNUAL | I10: ALL | J10: 1
B11: 635449.52 | C11: 4975933.8 | D11: 0.00028 | E11: 2211.27 | F11: 2844.3 | G11: 0 | H11: ANNUAL | I11: ALL | J11: 1
B12: 635474.52 | C12: 4975933.8 | D12: 0.00027 | E12: 2212.5 | F12: 2844.3 | G12: 0 | H12: ANNUAL | I12: ALL | J12: 1
B13: 635499.52 | C13: 4975933.8 | D13: 0.00027 | E13: 2215.21 | F13: 2844.3 | G13: 0 | H13: ANNUAL | I13: ALL | J13: 1
B14: 635524.52 | C14: 4975933.8 | D14: 0.00026 | E14: 2215.98 | F14: 2844.3 | G14: 0 | H14: ANNUAL | I14: ALL | J14: 1
B15: 635549.52 | C15: 4975933.8 | D15: 0.00026 | E15: 2215 | F15: 2844.3 | G15: 0 | H15: ANNUAL | I15: ALL | J15: 1
B16: 635574.52 | C16: 4975933.8 | D16: 0.00026 | E16: 2215.74 | F16: 2844.3 | G16: 0 | H16: ANNUAL | I16: ALL | J16: 1
B17: 635599.52 | C17: 4975933.8 | D17: 0.00025 | E17: 2218.34 | F17: 2844.3 | G17: 0 | H17: ANNUAL | I17: ALL | J17: 1
B18: 635399.52 | C18: 4975958.8 | D18: 0.0003 | E18: 2202.75 | F18: 2844.3 | G18: 0 | H18: ANNUAL | I18: ALL | J18: 1
B19: 635424.52 | C19: 4975958.8 | D19: 0.0003 | E19: 2204.36 | F19: 2844.3 | G19: 0 | H19: ANNUAL | I19: ALL | J19: 1
B20: 635449.52 | C20: 4975958.8 | D20: 0.0003 | E20: 2204.87 | F20: 2844.3 | G20: 0 | H20: ANNUAL | I20: ALL | J20: 1
B21: 635474.52 | C21: 4975958.8 | D21: 0.00029 | E21: 2206.39 | F21: 2844.3 | G21: 0 | H21: ANNUAL | I21: ALL | J21: 1
B22: 635499.52 | C22: 4975958.8 | D22: 0.00028 | E22: 2208.99 | F22: 2844.3 | G22: 0 | H22: ANNUAL | I22: ALL | J22: 1
... B728: 634799.52 | C728: 4977033.8 | D728: 0.00084 | E728: 2295.21 | F728: 2742.16 | G728: 0 | H728: ANNUAL | I728: ALL | J728: 1
A729: ** | B729: CONCUNIT | C729: ug/m^3
A730: ** | B730: DEPUNIT | C730: g/m^2

Sheet W3
A1: * | B1: AERMOD | C1: ( | D1: 19191): | E1: MIDAS | F1: GOLD | G1: STIBNITE | H1: - | I1: MODELING | J1: R27 | K1: 44461
A2: * | B2: AERMET | C2: ( | D2: 19191): | E2: 0.53523148
A3: * | B3: MODELING | C3: OPTIONS | D3: USED: | E3: RegDFAULT | F3: CONC | G3: ELEV | H3: NOWARN | I3: DRYDPLT | J3: WETDPLT | K3: RURAL | L3: ADJ_U*
A4: * | B4: PLOT | C4: FILE | D4: OF | E4: ANNUAL | F4: VALUES | G4: AVERAGED | H4: ACROSS | I4: 1 | J4: YEARS | K4: FOR | L4: SOURCE | M4: GROUP: | N4: ALL
A5: * | B5: FOR | C5: A | D5: TOTAL | E5: OF | F5: 720 | G5: RECEPTORS.
A6: * | B6: FORMAT: | C6: (3(1X,F13.5),3(1X,F8.2),2X,A6,2X,A8,2X,I8.8,2X,A8)
A7: * | B7: X | C7: Y | D7: AVERAGE | E7: CONC | F7: ZELEV | G7: ZHILL | H7: ZFLAG | I7: AVE | J7: GRP | K7: NUM | L7: YRS | M7: NET | N7: ID
A8: * | B8: ____________ | C8: ____________ | D8: ____________ | E8: ______ | F8: ______ | G8: ______ | H8: ______ | I8: ________ | J8: ________ | K8: ________
A9: =MAX(D9:D728) -> 0.00673 | B9: 635399.52 | C9: 4975933.8 | D9: 0.00087 | E9: 2213.4 | F9: 2844.3 | G9: 0 | H9: ANNUAL | I9: ALL | J9: 1
A10: max ↑ | B10: 635424.52 | C10: 4975933.8 | D10: 0.00087 | E10: 2212.64 | F10: 2844.3 | G10: 0 | H10: ANNUAL | I10: ALL | J10: 1
B11: 635449.52 | C11: 4975933.8 | D11: 0.00087 | E11: 2211.27 | F11: 2844.3 | G11: 0 | H11: ANNUAL | I11: ALL | J11: 1
B12: 635474.52 | C12: 4975933.8 | D12: 0.00086 | E12: 2212.5 | F12: 2844.3 | G12: 0 | H12: ANNUAL | I12: ALL | J12: 1
B13: 635499.52 | C13: 4975933.8 | D13: 0.00085 | E13: 2215.21 | F13: 2844.3 | G13: 0 | H13: ANNUAL | I13: ALL | J13: 1
B14: 635524.52 | C14: 4975933.8 | D14: 0.00084 | E14: 2215.98 | F14: 2844.3 | G14: 0 | H14: ANNUAL | I14: ALL | J14: 1
B15: 635549.52 | C15: 4975933.8 | D15: 0.00084 | E15: 2215 | F15: 2844.3 | G15: 0 | H15: ANNUAL | I15: ALL | J15: 1
B16: 635574.52 | C16: 4975933.8 | D16: 0.00084 | E16: 2215.74 | F16: 2844.3 | G16: 0 | H16: ANNUAL | I16: ALL | J16: 1
B17: 635599.52 | C17: 4975933.8 | D17: 0.00082 | E17: 2218.34 | F17: 2844.3 | G17: 0 | H17: ANNUAL | I17: ALL | J17: 1
B18: 635399.52 | C18: 4975958.8 | D18: 0.00092 | E18: 2202.75 | F18: 2844.3 | G18: 0 | H18: ANNUAL | I18: ALL | J18: 1
B19: 635424.52 | C19: 4975958.8 | D19: 0.00091 | E19: 2204.36 | F19: 2844.3 | G19: 0 | H19: ANNUAL | I19: ALL | J19: 1
B20: 635449.52 | C20: 4975958.8 | D20: 0.00091 | E20: 2204.87 | F20: 2844.3 | G20: 0 | H20: ANNUAL | I20: ALL | J20: 1
B21: 635474.52 | C21: 4975958.8 | D21: 0.00089 | E21: 2206.39 | F21: 2844.3 | G21: 0 | H21: ANNUAL | I21: ALL | J21: 1
B22: 635499.52 | C22: 4975958.8 | D22: 0.00088 | E22: 2208.99 | F22: 2844.3 | G22: 0 | H22: ANNUAL | I22: ALL | J22: 1
... B728: 634799.52 | C728: 4977033.8 | D728: 0.00111 | E728: 2295.21 | F728: 2742.16 | G728: 0 | H728: ANNUAL | I728: ALL | J728: 1
A729: ** | B729: CONCUNIT | C729: ug/m^3
A730: ** | B730: DEPUNIT | C730: g/m^2

Sheet W4
A1: * | B1: AERMOD | C1: ( | D1: 19191): | E1: MIDAS | F1: GOLD | G1: STIBNITE | H1: - | I1: MODELING | J1: R27 | K1: 44461
A2: * | B2: AERMET | C2: ( | D2: 19191): | E2: 0.5949537
A3: * | B3: MODELING | C3: OPTIONS | D3: USED: | E3: RegDFAULT | F3: CONC | G3: ELEV | H3: NOWARN | I3: DRYDPLT | J3: WETDPLT | K3: RURAL | L3: ADJ_U*
A4: * | B4: PLOT | C4: FILE | D4: OF | E4: ANNUAL | F4: VALUES | G4: AVERAGED | H4: ACROSS | I4: 1 | J4: YEARS | K4: FOR | L4: SOURCE | M4: GROUP: | N4: ALL
A5: * | B5: FOR | C5: A | D5: TOTAL | E5: OF | F5: 720 | G5: RECEPTORS.
A6: * | B6: FORMAT: | C6: (3(1X,F13.5),3(1X,F8.2),2X,A6,2X,A8,2X,I8.8,2X,A8)
A7: * | B7: X | C7: Y | D7: AVERAGE | E7: CONC | F7: ZELEV | G7: ZHILL | H7: ZFLAG | I7: AVE | J7: GRP | K7: NUM | L7: YRS | M7: NET | N7: ID
A8: * | B8: ____________ | C8: ____________ | D8: ____________ | E8: ______ | F8: ______ | G8: ______ | H8: ______ | I8: ________ | J8: ________ | K8: ________
A9: =MAX(D9:D728) -> 0.00642 | B9: 635399.52 | C9: 4975933.8 | D9: 0.00017 | E9: 2213.4 | F9: 2844.3 | G9: 0 | H9: ANNUAL | I9: ALL | J9: 1
A10: max ↑ | B10: 635424.52 | C10: 4975933.8 | D10: 0.00017 | E10: 2212.64 | F10: 2844.3 | G10: 0 | H10: ANNUAL | I10: ALL | J10: 1
B11: 635449.52 | C11: 4975933.8 | D11: 0.00017 | E11: 2211.27 | F11: 2844.3 | G11: 0 | H11: ANNUAL | I11: ALL | J11: 1
B12: 635474.52 | C12: 4975933.8 | D12: 0.00017 | E12: 2212.5 | F12: 2844.3 | G12: 0 | H12: ANNUAL | I12: ALL | J12: 1
B13: 635499.52 | C13: 4975933.8 | D13: 0.00017 | E13: 2215.21 | F13: 2844.3 | G13: 0 | H13: ANNUAL | I13: ALL | J13: 1
B14: 635524.52 | C14: 4975933.8 | D14: 0.00016 | E14: 2215.98 | F14: 2844.3 | G14: 0 | H14: ANNUAL | I14: ALL | J14: 1
B15: 635549.52 | C15: 4975933.8 | D15: 0.00016 | E15: 2215 | F15: 2844.3 | G15: 0 | H15: ANNUAL | I15: ALL | J15: 1
B16: 635574.52 | C16: 4975933.8 | D16: 0.00016 | E16: 2215.74 | F16: 2844.3 | G16: 0 | H16: ANNUAL | I16: ALL | J16: 1
B17: 635599.52 | C17: 4975933.8 | D17: 0.00016 | E17: 2218.34 | F17: 2844.3 | G17: 0 | H17: ANNUAL | I17: ALL | J17: 1
B18: 635399.52 | C18: 4975958.8 | D18: 0.00018 | E18: 2202.75 | F18: 2844.3 | G18: 0 | H18: ANNUAL | I18: ALL | J18: 1
B19: 635424.52 | C19: 4975958.8 | D19: 0.00018 | E19: 2204.36 | F19: 2844.3 | G19: 0 | H19: ANNUAL | I19: ALL | J19: 1
B20: 635449.52 | C20: 4975958.8 | D20: 0.00018 | E20: 2204.87 | F20: 2844.3 | G20: 0 | H20: ANNUAL | I20: ALL | J20: 1
B21: 635474.52 | C21: 4975958.8 | D21: 0.00017 | E21: 2206.39 | F21: 2844.3 | G21: 0 | H21: ANNUAL | I21: ALL | J21: 1
B22: 635499.52 | C22: 4975958.8 | D22: 0.00017 | E22: 2208.99 | F22: 2844.3 | G22: 0 | H22: ANNUAL | I22: ALL | J22: 1
... B728: 634799.52 | C728: 4977033.8 | D728: 0.00042 | E728: 2295.21 | F728: 2742.16 | G728: 0 | H728: ANNUAL | I728: ALL | J728: 1
A729: ** | B729: CONCUNIT | C729: ug/m^3
A730: ** | B730: DEPUNIT | C730: g/m^2

Sheet B1
A1: * | B1: AERMOD | C1: ( | D1: 19191): | E1: MIDAS | F1: GOLD | G1: STIBNITE | H1: - | I1: MODELING | J1: R27 | K1: 44461
A2: * | B2: AERMET | C2: ( | D2: 19191): | E2: 0.48858796
A3: * | B3: MODELING | C3: OPTIONS | D3: USED: | E3: RegDFAULT | F3: CONC | G3: ELEV | H3: NOWARN | I3: DRYDPLT | J3: WETDPLT | K3: RURAL | L3: ADJ_U*
A4: * | B4: PLOT | C4: FILE | D4: OF | E4: ANNUAL | F4: VALUES | G4: AVERAGED | H4: ACROSS | I4: 1 | J4: YEARS | K4: FOR | L4: SOURCE | M4: GROUP: | N4: ALL
A5: * | B5: FOR | C5: A | D5: TOTAL | E5: OF | F5: 720 | G5: RECEPTORS.
A6: * | B6: FORMAT: | C6: (3(1X,F13.5),3(1X,F8.2),2X,A6,2X,A8,2X,I8.8,2X,A8)
A7: * | B7: X | C7: Y | D7: AVERAGE | E7: CONC | F7: ZELEV | G7: ZHILL | H7: ZFLAG | I7: AVE | J7: GRP | K7: NUM | L7: YRS | M7: NET | N7: ID
A8: * | B8: ____________ | C8: ____________ | D8: ____________ | E8: ______ | F8: ______ | G8: ______ | H8: ______ | I8: ________ | J8: ________ | K8: ________
A9: =MAX(D9:D728) -> 0.00105 | B9: 635399.52 | C9: 4975933.8 | D9: 0.00079 | E9: 2213.4 | F9: 2844.3 | G9: 0 | H9: ANNUAL | I9: ALL | J9: 1
A10: max ↑ | B10: 635424.52 | C10: 4975933.8 | D10: 0.0008 | E10: 2212.64 | F10: 2844.3 | G10: 0 | H10: ANNUAL | I10: ALL | J10: 1
B11: 635449.52 | C11: 4975933.8 | D11: 0.00081 | E11: 2211.27 | F11: 2844.3 | G11: 0 | H11: ANNUAL | I11: ALL | J11: 1
B12: 635474.52 | C12: 4975933.8 | D12: 0.0008 | E12: 2212.5 | F12: 2844.3 | G12: 0 | H12: ANNUAL | I12: ALL | J12: 1
B13: 635499.52 | C13: 4975933.8 | D13: 0.00079 | E13: 2215.21 | F13: 2844.3 | G13: 0 | H13: ANNUAL | I13: ALL | J13: 1
B14: 635524.52 | C14: 4975933.8 | D14: 0.00079 | E14: 2215.98 | F14: 2844.3 | G14: 0 | H14: ANNUAL | I14: ALL | J14: 1
B15: 635549.52 | C15: 4975933.8 | D15: 0.00079 | E15: 2215 | F15: 2844.3 | G15: 0 | H15: ANNUAL | I15: ALL | J15: 1
B16: 635574.52 | C16: 4975933.8 | D16: 0.00079 | E16: 2215.74 | F16: 2844.3 | G16: 0 | H16: ANNUAL | I16: ALL | J16: 1
B17: 635599.52 | C17: 4975933.8 | D17: 0.00078 | E17: 2218.34 | F17: 2844.3 | G17: 0 | H17: ANNUAL | I17: ALL | J17: 1
B18: 635399.52 | C18: 4975958.8 | D18: 0.00083 | E18: 2202.75 | F18: 2844.3 | G18: 0 | H18: ANNUAL | I18: ALL | J18: 1
B19: 635424.52 | C19: 4975958.8 | D19: 0.00082 | E19: 2204.36 | F19: 2844.3 | G19: 0 | H19: ANNUAL | I19: ALL | J19: 1
B20: 635449.52 | C20: 4975958.8 | D20: 0.00082 | E20: 2204.87 | F20: 2844.3 | G20: 0 | H20: ANNUAL | I20: ALL | J20: 1
B21: 635474.52 | C21: 4975958.8 | D21: 0.00082 | E21: 2206.39 | F21: 2844.3 | G21: 0 | H21: ANNUAL | I21: ALL | J21: 1
B22: 635499.52 | C22: 4975958.8 | D22: 0.00081 | E22: 2208.99 | F22: 2844.3 | G22: 0 | H22: ANNUAL | I22: ALL | J22: 1
... B728: 634799.52 | C728: 4977033.8 | D728: 0.00037 | E728: 2295.21 | F728: 2742.16 | G728: 0 | H728: ANNUAL | I728: ALL | J728: 1
A729: ** | B729: CONCUNIT | C729: ug/m^3
A730: ** | B730: DEPUNIT | C730: g/m^2

Sheet B2
A1: * | B1: AERMOD | C1: ( | D1: 19191): | E1: MIDAS | F1: GOLD | G1: STIBNITE | H1: - | I1: MODELING | J1: R27 | K1: 44461
A2: * | B2: AERMET | C2: ( | D2: 19191): | E2: 0.52488426
A3: * | B3: MODELING | C3: OPTIONS | D3: USED: | E3: RegDFAULT | F3: CONC | G3: ELEV | H3: NOWARN | I3: DRYDPLT | J3: WETDPLT | K3: RURAL | L3: ADJ_U*
A4: * | B4: PLOT | C4: FILE | D4: OF | E4: ANNUAL | F4: VALUES | G4: AVERAGED | H4: ACROSS | I4: 1 | J4: YEARS | K4: FOR | L4: SOURCE | M4: GROUP: | N4: ALL
A5: * | B5: FOR | C5: A | D5: TOTAL | E5: OF | F5: 720 | G5: RECEPTORS.
A6: * | B6: FORMAT: | C6: (3(1X,F13.5),3(1X,F8.2),2X,A6,2X,A8,2X,I8.8,2X,A8)
A7: * | B7: X | C7: Y | D7: AVERAGE | E7: CONC | F7: ZELEV | G7: ZHILL | H7: ZFLAG | I7: AVE | J7: GRP | K7: NUM | L7: YRS | M7: NET | N7: ID
A8: * | B8: ____________ | C8: ____________ | D8: ____________ | E8: ______ | F8: ______ | G8: ______ | H8: ______ | I8: ________ | J8: ________ | K8: ________
A9: =MAX(D9:D728) -> 0.00053 | B9: 635399.52 | C9: 4975933.8 | D9: 0.00049 | E9: 2213.4 | F9: 2844.3 | G9: 0 | H9: ANNUAL | I9: ALL | J9: 1
A10: max ↑ | B10: 635424.52 | C10: 4975933.8 | D10: 0.0005 | E10: 2212.64 | F10: 2844.3 | G10: 0 | H10: ANNUAL | I10: ALL | J10: 1
B11: 635449.52 | C11: 4975933.8 | D11: 0.0005 | E11: 2211.27 | F11: 2844.3 | G11: 0 | H11: ANNUAL | I11: ALL | J11: 1
B12: 635474.52 | C12: 4975933.8 | D12: 0.0005 | E12: 2212.5 | F12: 2844.3 | G12: 0 | H12: ANNUAL | I12: ALL | J12: 1
B13: 635499.52 | C13: 4975933.8 | D13: 0.0005 | E13: 2215.21 | F13: 2844.3 | G13: 0 | H13: ANNUAL | I13: ALL | J13: 1
B14: 635524.52 | C14: 4975933.8 | D14: 0.0005 | E14: 2215.98 | F14: 2844.3 | G14: 0 | H14: ANNUAL | I14: ALL | J14: 1
B15: 635549.52 | C15: 4975933.8 | D15: 0.00051 | E15: 2215 | F15: 2844.3 | G15: 0 | H15: ANNUAL | I15: ALL | J15: 1
B16: 635574.52 | C16: 4975933.8 | D16: 0.00051 | E16: 2215.74 | F16: 2844.3 | G16: 0 | H16: ANNUAL | I16: ALL | J16: 1
B17: 635599.52 | C17: 4975933.8 | D17: 0.0005 | E17: 2218.34 | F17: 2844.3 | G17: 0 | H17: ANNUAL | I17: ALL | J17: 1
B18: 635399.52 | C18: 4975958.8 | D18: 0.00051 | E18: 2202.75 | F18: 2844.3 | G18: 0 | H18: ANNUAL | I18: ALL | J18: 1
B19: 635424.52 | C19: 4975958.8 | D19: 0.00051 | E19: 2204.36 | F19: 2844.3 | G19: 0 | H19: ANNUAL | I19: ALL | J19: 1
B20: 635449.52 | C20: 4975958.8 | D20: 0.00051 | E20: 2204.87 | F20: 2844.3 | G20: 0 | H20: ANNUAL | I20: ALL | J20: 1
B21: 635474.52 | C21: 4975958.8 | D21: 0.00051 | E21: 2206.39 | F21: 2844.3 | G21: 0 | H21: ANNUAL | I21: ALL | J21: 1
B22: 635499.52 | C22: 4975958.8 | D22: 0.00051 | E22: 2208.99 | F22: 2844.3 | G22: 0 | H22: ANNUAL | I22: ALL | J22: 1
... B728: 634799.52 | C728: 4977033.8 | D728: 9e-05 | E728: 2295.21 | F728: 2742.16 | G728: 0 | H728: ANNUAL | I728: ALL | J728: 1
A729: ** | B729: CONCUNIT | C729: ug/m^3
A730: ** | B730: DEPUNIT | C730: g/m^2

Sheet Lifetime Exposure W1-W4
D7: Modeled Arsenic Concentrations for W1-W4 and max nonW | I7: Lifetime Arsenic Exposure Per Receptor | M7: Max. Lifetime Arsenic Exposure
B8: X | C8: Y | D8: W1 | E8: W2 | F8: W3 | G8: W4 | H8: max nonW | I8: W1 | J8: W2 | K8: W3 | L8: W4 | M8: W1 | N8: W2 | O8: W3 | P8: W4
B9: 635399.52 | C9: 4975933.8 | D9: 0.00035 | E9: 0.00028 | F9: 0.00087 | G9: 0.00017 | H9: =MAX('Y1'!D9,'Y2'!D9,'Y3'!D9,'H1'!D9,'H2'!D9,'H3'!D9,'H4'!D9,'B1'!D9,'B2'!D9) -> 0.00079 | I9: =((0.5*D9)+(0.5*H9))*16/70 -> 0.00013028571 | J9: =((0.5*E9)+(0.5*H9))*16/70 -> 0.00012228571 | K9: =((0.5*F9)+(0.5*H9))*16/70 -> 0.00018971429 | L9: =((0.5*G9)+(0.5*H9))*16/70 -> 0.00010971429 | M9: =MAX(I9:I728) -> 0.00090971429 | N9: =MAX(J9:J728) -> 0.00094514286 | O9: =MAX(K9:K728) -> 0.00089828571 | P9: =MAX(L9:L728) -> 0.00087428571
B10: 635424.52 | C10: 4975933.8 | D10: 0.00035 | E10: 0.00028 | F10: 0.00087 | G10: 0.00017 | H10: =MAX('Y1'!D10,'Y2'!D10,'Y3'!D10,'H1'!D10,'H2'!D10,'H3'!D10,'H4'!D10,'B1'!D10,'B2'!D10) -> 0.0008 | I10: =((0.5*D10)+(0.5*H10))*16/70 -> 0.00013142857 | J10: =((0.5*E10)+(0.5*H10))*16/70 -> 0.00012342857 | K10: =((0.5*F10)+(0.5*H10))*16/70 -> 0.00019085714 | L10: =((0.5*G10)+(0.5*H10))*16/70 -> 0.00011085714
B11: 635449.52 | C11: 4975933.8 | D11: 0.00035 | E11: 0.00028 | F11: 0.00087 | G11: 0.00017 | H11: =MAX('Y1'!D11,'Y2'!D11,'Y3'!D11,'H1'!D11,'H2'!D11,'H3'!D11,'H4'!D11,'B1'!D11,'B2'!D11) -> 0.00081 | I11: =((0.5*D11)+(0.5*H11))*16/70 -> 0.00013257143 | J11: =((0.5*E11)+(0.5*H11))*16/70 -> 0.00012457143 | K11: =((0.5*F11)+(0.5*H11))*16/70 -> 0.000192 | L11: =((0.5*G11)+(0.5*H11))*16/70 -> 0.000112
B12: 635474.52 | C12: 4975933.8 | D12: 0.00034 | E12: 0.00027 | F12: 0.00086 | G12: 0.00017 | H12: =MAX('Y1'!D12,'Y2'!D12,'Y3'!D12,'H1'!D12,'H2'!D12,'H3'!D12,'H4'!D12,'B1'!D12,'B2'!D12) -> 0.0008 | I12: =((0.5*D12)+(0.5*H12))*16/70 -> 0.00013028571 | J12: =((0.5*E12)+(0.5*H12))*16/70 -> 0.00012228571 | K12: =((0.5*F12)+(0.5*H12))*16/70 -> 0.00018971429 | L12: =((0.5*G12)+(0.5*H12))*16/70 -> 0.00011085714
B13: 635499.52 | C13: 4975933.8 | D13: 0.00033 | E13: 0.00027 | F13: 0.00085 | G13: 0.00017 | H13: =MAX('Y1'!D13,'Y2'!D13,'Y3'!D13,'H1'!D13,'H2'!D13,'H3'!D13,'H4'!D13,'B1'!D13,'B2'!D13) -> 0.00079 | I13: =((0.5*D13)+(0.5*H13))*16/70 -> 0.000128 | J13: =((0.5*E13)+(0.5*H13))*16/70 -> 0.00012114286 | K13: =((0.5*F13)+(0.5*H13))*16/70 -> 0.00018742857 | L13: =((0.5*G13)+(0.5*H13))*16/70 -> 0.00010971429
B14: 635524.52 | C14: 4975933.8 | D14: 0.00033 | E14: 0.00026 | F14: 0.00084 | G14: 0.00016 | H14: =MAX('Y1'!D14,'Y2'!D14,'Y3'!D14,'H1'!D14,'H2'!D14,'H3'!D14,'H4'!D14,'B1'!D14,'B2'!D14) -> 0.00079 | I14: =((0.5*D14)+(0.5*H14))*16/70 -> 0.000128 | J14: =((0.5*E14)+(0.5*H14))*16/70 -> 0.00012 | K14: =((0.5*F14)+(0.5*H14))*16/70 -> 0.00018628571 | L14: =((0.5*G14)+(0.5*H14))*16/70 -> 0.00010857143
B15: 635549.52 | C15: 4975933.8 | D15: 0.00032 | E15: 0.00026 | F15: 0.00084 | G15: 0.00016 | H15: =MAX('Y1'!D15,'Y2'!D15,'Y3'!D15,'H1'!D15,'H2'!D15,'H3'!D15,'H4'!D15,'B1'!D15,'B2'!D15) -> 0.00079 | I15: =((0.5*D15)+(0.5*H15))*16/70 -> 0.00012685714 | J15: =((0.5*E15)+(0.5*H15))*16/70 -> 0.00012 | K15: =((0.5*F15)+(0.5*H15))*16/70 -> 0.00018628571 | L15: =((0.5*G15)+(0.5*H15))*16/70 -> 0.00010857143
B16: 635574.52 | C16: 4975933.8 | D16: 0.00032 | E16: 0.00026 | F16: 0.00084 | G16: 0.00016 | H16: =MAX('Y1'!D16,'Y2'!D16,'Y3'!D16,'H1'!D16,'H2'!D16,'H3'!D16,'H4'!D16,'B1'!D16,'B2'!D16) -> 0.00079 | I16: =((0.5*D16)+(0.5*H16))*16/70 -> 0.00012685714 | J16: =((0.5*E16)+(0.5*H16))*16/70 -> 0.00012 | K16: =((0.5*F16)+(0.5*H16))*16/70 -> 0.00018628571 | L16: =((0.5*G16)+(0.5*H16))*16/70 -> 0.00010857143
B17: 635599.52 | C17: 4975933.8 | D17: 0.00031 | E17: 0.00025 | F17: 0.00082 | G17: 0.00016 | H17: =MAX('Y1'!D17,'Y2'!D17,'Y3'!D17,'H1'!D17,'H2'!D17,'H3'!D17,'H4'!D17,'B1'!D17,'B2'!D17) -> 0.00078 | I17: =((0.5*D17)+(0.5*H17))*16/70 -> 0.00012457143 | J17: =((0.5*E17)+(0.5*H17))*16/70 -> 0.00011771429 | K17: =((0.5*F17)+(0.5*H17))*16/70 -> 0.00018285714 | L17: =((0.5*G17)+(0.5*H17))*16/70 -> 0.00010742857
B18: 635399.52 | C18: 4975958.8 | D18: 0.00038 | E18: 0.0003 | F18: 0.00092 | G18: 0.00018 | H18: =MAX('Y1'!D18,'Y2'!D18,'Y3'!D18,'H1'!D18,'H2'!D18,'H3'!D18,'H4'!D18,'B1'!D18,'B2'!D18) -> 0.00083 | I18: =((0.5*D18)+(0.5*H18))*16/70 -> 0.00013828571 | J18: =((0.5*E18)+(0.5*H18))*16/70 -> 0.00012914286 | K18: =((0.5*F18)+(0.5*H18))*16/70 -> 0.0002 | L18: =((0.5*G18)+(0.5*H18))*16/70 -> 0.00011542857
B19: 635424.52 | C19: 4975958.8 | D19: 0.00037 | E19: 0.0003 | F19: 0.00091 | G19: 0.00018 | H19: =MAX('Y1'!D19,'Y2'!D19,'Y3'!D19,'H1'!D19,'H2'!D19,'H3'!D19,'H4'!D19,'B1'!D19,'B2'!D19) -> 0.00082 | I19: =((0.5*D19)+(0.5*H19))*16/70 -> 0.000136 | J19: =((0.5*E19)+(0.5*H19))*16/70 -> 0.000128 | K19: =((0.5*F19)+(0.5*H19))*16/70 -> 0.00019771429 | L19: =((0.5*G19)+(0.5*H19))*16/70 -> 0.00011428571
B20: 635449.52 | C20: 4975958.8 | D20: 0.00037 | E20: 0.0003 | F20: 0.00091 | G20: 0.00018 | H20: =MAX('Y1'!D20,'Y2'!D20,'Y3'!D20,'H1'!D20,'H2'!D20,'H3'!D20,'H4'!D20,'B1'!D20,'B2'!D20) -> 0.00082 | I20: =((0.5*D20)+(0.5*H20))*16/70 -> 0.000136 | J20: =((0.5*E20)+(0.5*H20))*16/70 -> 0.000128 | K20: =((0.5*F20)+(0.5*H20))*16/70 -> 0.00019771429 | L20: =((0.5*G20)+(0.5*H20))*16/70 -> 0.00011428571
B21: 635474.52 | C21: 4975958.8 | D21: 0.00036 | E21: 0.00029 | F21: 0.00089 | G21: 0.00017 | H21: =MAX('Y1'!D21,'Y2'!D21,'Y3'!D21,'H1'!D21,'H2'!D21,'H3'!D21,'H4'!D21,'B1'!D21,'B2'!D21) -> 0.00082 | I21: =((0.5*D21)+(0.5*H21))*16/70 -> 0.00013485714 | J21: =((0.5*E21)+(0.5*H21))*16/70 -> 0.00012685714 | K21: =((0.5*F21)+(0.5*H21))*16/70 -> 0.00019542857 | L21: =((0.5*G21)+(0.5*H21))*16/70 -> 0.00011314286
... B728: 634799.52 | C728: 4977033.8 | D728: 0.0009 | E728: 0.00084 | F728: 0.00111 | G728: 0.00042 | H728: =MAX('Y1'!D728,'Y2'!D728,'Y3'!D728,'H1'!D728,'H2'!D728,'H3'!D728,'H4'!D728,'B1'!D728,'B2'!D728) -> 0.00075 | I728: =((0.5*D728)+(0.5*H728))*16/70 -> 0.00018857143 | J728: =((0.5*E728)+(0.5*H728))*16/70 -> 0.00018171429 | K728: =((0.5*F728)+(0.5*H728))*16/70 -> 0.00021257143 | L728: =((0.5*G728)+(0.5*H728))*16/70 -> 0.00013371429
